BEGIN:VCALENDAR
VERSION:2.0
PRODID:-//wp-events-plugin.com//7.2.3.1//EN
TZID:America/Los_Angeles
X-WR-TIMEZONE:America/Los_Angeles
BEGIN:VEVENT
UID:628@templeetzchaim.org
DTSTART;TZID=America/Los_Angeles:20230424T183000
DTEND;TZID=America/Los_Angeles:20230424T203000
DTSTAMP:20221004T175720Z
URL:https://www.templeetzchaim.org/events/confirmation-class-grades-8-10-2
 023-04-24/
SUMMARY:Confirmation Class (Grades 8-10)
DESCRIPTION:
ATTACH;FMTTYPE=image/jpeg:https://www.templeetzchaim.org/wp-content/upload
 s/2022/05/RS.png
CATEGORIES:Religious School
END:VEVENT
BEGIN:VTIMEZONE
TZID:America/Los_Angeles
X-LIC-LOCATION:America/Los_Angeles
BEGIN:DAYLIGHT
DTSTART:20230312T030000
TZOFFSETFROM:-0800
TZOFFSETTO:-0700
TZNAME:PDT
END:DAYLIGHT
END:VTIMEZONE
END:VCALENDAR