BEGIN:VCALENDAR
VERSION:2.0
PRODID:-//wp-events-plugin.com//7.2.3.1//EN
TZID:America/Los_Angeles
X-WR-TIMEZONE:America/Los_Angeles
BEGIN:VEVENT
UID:2947@templeetzchaim.org
DTSTART;TZID=America/Los_Angeles:20241018T173000
DTEND;TZID=America/Los_Angeles:20241018T173000
DTSTAMP:20241001T013549Z
URL:https://www.templeetzchaim.org/events/family-shabbat-dinner-in-the-suk
 kah-2/
SUMMARY:Family Shabbat Dinner in the Sukkah
DESCRIPTION:Celebrate Shabbat &amp\; Sukkot with your family and your TEC f
 amily. Join us for our annual tradition. All ages welcome!
ATTACH;FMTTYPE=image/jpeg:https://www.templeetzchaim.org/wp-content/upload
 s/2024/09/Sukkot-Family-Dinner-2024-FINAL-1.png
CATEGORIES:Community
LOCATION:Temple Etz Chaim - Patio\, 1080 E. Janss Road\, Thousand Oaks\, CA
 \, 91360\, United States
X-APPLE-STRUCTURED-LOCATION;VALUE=URI;X-ADDRESS=1080 E. Janss Road\, Thousa
 nd Oaks\, CA\, 91360\, United States;X-APPLE-RADIUS=100;X-TITLE=Temple Etz
  Chaim - Patio:geo:0,0
END:VEVENT
BEGIN:VTIMEZONE
TZID:America/Los_Angeles
X-LIC-LOCATION:America/Los_Angeles
BEGIN:DAYLIGHT
DTSTART:20240310T030000
TZOFFSETFROM:-0800
TZOFFSETTO:-0700
TZNAME:PDT
END:DAYLIGHT
END:VTIMEZONE
END:VCALENDAR