BEGIN:VCALENDAR
VERSION:2.0
PRODID:-//wp-events-plugin.com//7.2.3.1//EN
TZID:America/Los_Angeles
X-WR-TIMEZONE:America/Los_Angeles
BEGIN:VEVENT
UID:1917@templeetzchaim.org
DTSTART;TZID=America/Los_Angeles:20230925T100000
DTEND;TZID=America/Los_Angeles:20230925T140000
DTSTAMP:20230825T042636Z
URL:https://www.templeetzchaim.org/events/high-holiday-experience-yom-kipp
 ur-2/
SUMMARY:High Holiday Experience - Yom Kippur
DESCRIPTION:For your school age kids\, members of our Religious School staf
 f will be conducting an engaging\, impactful and fun experience to underst
 and the meaning of the High Holidays.\n\n*PRE-REGISTRATION IS REQUIRED*\n\
 nPlease CLICK HERE to register.
ATTACH;FMTTYPE=image/jpeg:https://www.templeetzchaim.org/wp-content/upload
 s/2023/08/calendar-squares-15b.jpg
CATEGORIES:Religious Services
LOCATION:Temple Etz Chaim - Wolfson Auditorium\, 1080 E. Janss Road\, Thous
 and Oaks\, CA\, 91360\, United States
X-APPLE-STRUCTURED-LOCATION;VALUE=URI;X-ADDRESS=1080 E. Janss Road\, Thousa
 nd Oaks\, CA\, 91360\, United States;X-APPLE-RADIUS=100;X-TITLE=Temple Etz
  Chaim - Wolfson Auditorium:geo:0,0
END:VEVENT
BEGIN:VTIMEZONE
TZID:America/Los_Angeles
X-LIC-LOCATION:America/Los_Angeles
BEGIN:DAYLIGHT
DTSTART:20230312T030000
TZOFFSETFROM:-0800
TZOFFSETTO:-0700
TZNAME:PDT
END:DAYLIGHT
END:VTIMEZONE
END:VCALENDAR