BEGIN:VCALENDAR
VERSION:2.0
PRODID:-//wp-events-plugin.com//7.2.3.1//EN
TZID:America/Los_Angeles
X-WR-TIMEZONE:America/Los_Angeles
BEGIN:VEVENT
UID:1767@templeetzchaim.org
DTSTART;TZID=America/Los_Angeles:20230820T160000
DTEND;TZID=America/Los_Angeles:20230820T160000
DTSTAMP:20230816T203947Z
URL:https://www.templeetzchaim.org/events/israeli-dancing-with-wotec/
SUMMARY:Israeli Dancing with WOTEC
DESCRIPTION:Enjoy schmoozing\, dance instruction\, dancing and refreshments
 .  Led by award winning TEC Religious School teacher\, Maya Tenenbaum.\n\
 nRSVP to Dana Gallenberg - dgallenberg@templeetzchaim.org
ATTACH;FMTTYPE=image/jpeg:https://www.templeetzchaim.org/wp-content/upload
 s/2023/08/Israeli-Dancing-pdf.jpg
CATEGORIES:WOTEC
END:VEVENT
BEGIN:VTIMEZONE
TZID:America/Los_Angeles
X-LIC-LOCATION:America/Los_Angeles
BEGIN:DAYLIGHT
DTSTART:20230312T030000
TZOFFSETFROM:-0800
TZOFFSETTO:-0700
TZNAME:PDT
END:DAYLIGHT
END:VTIMEZONE
END:VCALENDAR