BEGIN:VCALENDAR
VERSION:2.0
PRODID:-//wp-events-plugin.com//7.2.3.1//EN
TZID:America/Los_Angeles
X-WR-TIMEZONE:America/Los_Angeles
BEGIN:VEVENT
UID:1312@templeetzchaim.org
DTSTART;TZID=America/Los_Angeles:20230609T190000
DTEND;TZID=America/Los_Angeles:20230609T190000
DTSTAMP:20221212T194554Z
URL:https://www.templeetzchaim.org/events/kabbalat-shabbat-2-2023-06-09/
SUMMARY:Kabbalat Shabbat
DESCRIPTION:Please join us for a spiritual and thoughtful end of your week.
  Every week\, Rabbi Averbach oversees a Kabbalat Shabbat service filled wi
 th prayer\, songs and fun - and all followed by a social Oneg to schmooze 
 and connect. It's a great way to end your week and welcome in Shabbat.\n\n
 And if you can't join us in person\, please join us via Live Stream throug
 h Zoom or Youtube. All links for Live Streaming are under our "Live Stream
 ing" submenu in the Header. We can't wait see you there\, and celebrate Sh
 abbat.
ATTACH;FMTTYPE=image/jpeg:https://www.templeetzchaim.org/wp-content/upload
 s/2022/05/Kabbalat-Shabbat.png
CATEGORIES:Religious Services
LOCATION:Temple Etz Chaim - Paskow Sanctuary\, 1080 E. Janss Road\, Thousan
 d Oaks\, CA\, 91360\, United States
X-APPLE-STRUCTURED-LOCATION;VALUE=URI;X-ADDRESS=1080 E. Janss Road\, Thousa
 nd Oaks\, CA\, 91360\, United States;X-APPLE-RADIUS=100;X-TITLE=Temple Etz
  Chaim - Paskow Sanctuary:geo:0,0
END:VEVENT
BEGIN:VTIMEZONE
TZID:America/Los_Angeles
X-LIC-LOCATION:America/Los_Angeles
BEGIN:DAYLIGHT
DTSTART:20230312T030000
TZOFFSETFROM:-0800
TZOFFSETTO:-0700
TZNAME:PDT
END:DAYLIGHT
END:VTIMEZONE
END:VCALENDAR