BEGIN:VCALENDAR
VERSION:2.0
PRODID:-//wp-events-plugin.com//7.2.3.1//EN
TZID:America/Los_Angeles
X-WR-TIMEZONE:America/Los_Angeles
BEGIN:VEVENT
UID:2687@templeetzchaim.org
DTSTART;TZID=America/Los_Angeles:20240123T190000
DTEND;TZID=America/Los_Angeles:20240123T190000
DTSTAMP:20231218T195215Z
URL:https://www.templeetzchaim.org/events/mens-club-board-meeting-3/
SUMMARY:Men's Club Board Meeting
DESCRIPTION:
ATTACH;FMTTYPE=image/jpeg:https://www.templeetzchaim.org/wp-content/upload
 s/2022/05/MC.png
CATEGORIES:Mens Club
END:VEVENT
BEGIN:VTIMEZONE
TZID:America/Los_Angeles
X-LIC-LOCATION:America/Los_Angeles
BEGIN:STANDARD
DTSTART:20231105T010000
TZOFFSETFROM:-0700
TZOFFSETTO:-0800
TZNAME:PST
END:STANDARD
END:VTIMEZONE
END:VCALENDAR