BEGIN:VCALENDAR
VERSION:2.0
PRODID:-//wp-events-plugin.com//7.2.3.1//EN
TZID:America/Los_Angeles
X-WR-TIMEZONE:America/Los_Angeles
BEGIN:VEVENT
UID:2900@templeetzchaim.org
DTSTART;TZID=America/Los_Angeles:20240917T190000
DTEND;TZID=America/Los_Angeles:20240917T190000
DTSTAMP:20240911T182519Z
URL:https://www.templeetzchaim.org/events/mens-club-board-meeting-7/
SUMMARY:Men's Club Board Meeting
DESCRIPTION:
ATTACH;FMTTYPE=image/jpeg:https://www.templeetzchaim.org/wp-content/upload
 s/2022/05/MC.png
CATEGORIES:Mens Club
END:VEVENT
BEGIN:VTIMEZONE
TZID:America/Los_Angeles
X-LIC-LOCATION:America/Los_Angeles
BEGIN:DAYLIGHT
DTSTART:20240310T030000
TZOFFSETFROM:-0800
TZOFFSETTO:-0700
TZNAME:PDT
END:DAYLIGHT
END:VTIMEZONE
END:VCALENDAR