BEGIN:VCALENDAR
VERSION:2.0
PRODID:-//wp-events-plugin.com//7.2.3.1//EN
TZID:America/Los_Angeles
X-WR-TIMEZONE:America/Los_Angeles
BEGIN:VEVENT
UID:4536@templeetzchaim.org
DTSTART;TZID=America/Los_Angeles:20261117T190000
DTEND;TZID=America/Los_Angeles:20261117T210000
DTSTAMP:20251222T192305Z
URL:https://www.templeetzchaim.org/events/mens-club-board-meetings-2026-07
 -21-2026-08-18-2026-09-15-2026-10-20-2026-11-17/
SUMMARY:Men's Club Board Meetings
DESCRIPTION:
ATTACH;FMTTYPE=image/jpeg:https://www.templeetzchaim.org/wp-content/upload
 s/2022/05/MC.png
CATEGORIES:Mens Club
END:VEVENT
BEGIN:VTIMEZONE
TZID:America/Los_Angeles
X-LIC-LOCATION:America/Los_Angeles
BEGIN:STANDARD
DTSTART:20261101T010000
TZOFFSETFROM:-0700
TZOFFSETTO:-0800
TZNAME:PST
END:STANDARD
END:VTIMEZONE
END:VCALENDAR