BEGIN:VCALENDAR
VERSION:2.0
PRODID:-//wp-events-plugin.com//7.2.3.1//EN
TZID:America/Los_Angeles
X-WR-TIMEZONE:America/Los_Angeles
BEGIN:VEVENT
UID:785@templeetzchaim.org
DTSTART;TZID=America/Los_Angeles:20221012T194500
DTEND;TZID=America/Los_Angeles:20221012T214500
DTSTAMP:20220915T155250Z
URL:https://www.templeetzchaim.org/events/mens-club-steak-scotch-and-torah
 /
SUMMARY:Men's Club Steak\, Scotch and Torah
DESCRIPTION:
ATTACH;FMTTYPE=image/jpeg:https://www.templeetzchaim.org/wp-content/upload
 s/2022/05/MC.png
CATEGORIES:Mens Club
END:VEVENT
BEGIN:VTIMEZONE
TZID:America/Los_Angeles
X-LIC-LOCATION:America/Los_Angeles
BEGIN:DAYLIGHT
DTSTART:20220313T030000
TZOFFSETFROM:-0800
TZOFFSETTO:-0700
TZNAME:PDT
END:DAYLIGHT
END:VTIMEZONE
END:VCALENDAR