BEGIN:VCALENDAR
VERSION:2.0
PRODID:-//wp-events-plugin.com//7.2.3.1//EN
TZID:America/Los_Angeles
X-WR-TIMEZONE:America/Los_Angeles
BEGIN:VEVENT
UID:1176@templeetzchaim.org
DTSTART;TZID=America/Los_Angeles:20231023T191500
DTEND;TZID=America/Los_Angeles:20231023T191500
DTSTAMP:20221212T194231Z
URL:https://www.templeetzchaim.org/events/monday-evening-minyan-2-2023-10-
 23/
SUMMARY:Monday Evening Minyan
DESCRIPTION:Please join us for our weekly Monday evening minyan services. *
 *PLEASE NOTE: ALL MONDAY EVENING MINYAN SERVICES ARE AVAILABLE ON ZOOM ONL
 Y.**
ATTACH;FMTTYPE=image/jpeg:https://www.templeetzchaim.org/wp-content/upload
 s/2022/05/Monday-Evening-Minyan.png
CATEGORIES:Religious Services
LOCATION:https://templeetzchaim-org.zoom.us/j/694433526?pwd=c3NqVDVqTklxUSt
 yblZjM1BqS3BGUT09#success
END:VEVENT
BEGIN:VTIMEZONE
TZID:America/Los_Angeles
X-LIC-LOCATION:America/Los_Angeles
BEGIN:DAYLIGHT
DTSTART:20230312T030000
TZOFFSETFROM:-0800
TZOFFSETTO:-0700
TZNAME:PDT
END:DAYLIGHT
END:VTIMEZONE
END:VCALENDAR