BEGIN:VCALENDAR
VERSION:2.0
PRODID:-//wp-events-plugin.com//7.2.3.1//EN
TZID:America/Los_Angeles
X-WR-TIMEZONE:America/Los_Angeles
BEGIN:VEVENT
UID:3713@templeetzchaim.org
DTSTART;TZID=America/Los_Angeles:20250913T190000
DTEND;TZID=America/Los_Angeles:20250913T203000
DTSTAMP:20250811T232742Z
URL:https://www.templeetzchaim.org/events/selichot-services-with-religious
 -school-8th-grade-class/
SUMMARY:Selichot Services with Religious School 8th Grade Class
DESCRIPTION:
ATTACH;FMTTYPE=image/jpeg:https://www.templeetzchaim.org/wp-content/upload
 s/2025/08/HH-2025-Selichot-Square.jpg
CATEGORIES:High Holidays
LOCATION:Temple Etz Chaim - Paskow Sanctuary\, 1080 E. Janss Road\, Thousan
 d Oaks\, CA\, 91360\, United States
X-APPLE-STRUCTURED-LOCATION;VALUE=URI;X-ADDRESS=1080 E. Janss Road\, Thousa
 nd Oaks\, CA\, 91360\, United States;X-APPLE-RADIUS=100;X-TITLE=Temple Etz
  Chaim - Paskow Sanctuary:geo:0,0
END:VEVENT
BEGIN:VTIMEZONE
TZID:America/Los_Angeles
X-LIC-LOCATION:America/Los_Angeles
BEGIN:DAYLIGHT
DTSTART:20250309T030000
TZOFFSETFROM:-0800
TZOFFSETTO:-0700
TZNAME:PDT
END:DAYLIGHT
END:VTIMEZONE
END:VCALENDAR