BEGIN:VCALENDAR
VERSION:2.0
PRODID:-//wp-events-plugin.com//7.2.3.1//EN
TZID:America/Los_Angeles
X-WR-TIMEZONE:America/Los_Angeles
BEGIN:VEVENT
UID:1817@templeetzchaim.org
DTSTART;TZID=America/Los_Angeles:20230909T190000
DTEND;TZID=America/Los_Angeles:20230909T190000
DTSTAMP:20230909T231046Z
URL:https://www.templeetzchaim.org/events/selichot-services/
SUMMARY:Selichot Schmooze
DESCRIPTION:Join us prior to the Musical Selichot Service led by Rabbi Ari 
 Averbach and Cantor Kenny Ellis. Featuring musicians led by our own Latin 
 Grammy Award-winning Musical Director\, Mariano Dugatkin. The beautiful Se
 lichot prayers usher in the themes and melodies of the approaching High Ho
 lidays. Join us for this deeply meaningful and spiritual experience.
ATTACH;FMTTYPE=image/jpeg:https://www.templeetzchaim.org/wp-content/upload
 s/2023/08/calendar-squares_082423-01.jpg
CATEGORIES:Religious Services
LOCATION:Temple Etz Chaim - Paskow Sanctuary\, 1080 E. Janss Road\, Thousan
 d Oaks\, CA\, 91360\, United States
X-APPLE-STRUCTURED-LOCATION;VALUE=URI;X-ADDRESS=1080 E. Janss Road\, Thousa
 nd Oaks\, CA\, 91360\, United States;X-APPLE-RADIUS=100;X-TITLE=Temple Etz
  Chaim - Paskow Sanctuary:geo:0,0
END:VEVENT
BEGIN:VTIMEZONE
TZID:America/Los_Angeles
X-LIC-LOCATION:America/Los_Angeles
BEGIN:DAYLIGHT
DTSTART:20230312T030000
TZOFFSETFROM:-0800
TZOFFSETTO:-0700
TZNAME:PDT
END:DAYLIGHT
END:VTIMEZONE
END:VCALENDAR