BEGIN:VCALENDAR
VERSION:2.0
PRODID:-//wp-events-plugin.com//7.2.3.1//EN
TZID:America/Los_Angeles
X-WR-TIMEZONE:America/Los_Angeles
BEGIN:VEVENT
UID:3733@templeetzchaim.org
DTSTART;TZID=America/Los_Angeles:20251014T093000
DTEND;TZID=America/Los_Angeles:20251014T093000
DTSTAMP:20250812T055903Z
URL:https://www.templeetzchaim.org/events/shemini-atzeret-yizkor-memorial-
 service/
SUMMARY:Shemini Atzeret - Yizkor Memorial Service
DESCRIPTION:
ATTACH;FMTTYPE=image/jpeg:https://www.templeetzchaim.org/wp-content/upload
 s/2025/08/HH-2025-Shemini-Atzeret-Yizkor-Square.jpg
CATEGORIES:Holidays
END:VEVENT
BEGIN:VTIMEZONE
TZID:America/Los_Angeles
X-LIC-LOCATION:America/Los_Angeles
BEGIN:DAYLIGHT
DTSTART:20250309T030000
TZOFFSETFROM:-0800
TZOFFSETTO:-0700
TZNAME:PDT
END:DAYLIGHT
END:VTIMEZONE
END:VCALENDAR