BEGIN:VCALENDAR
VERSION:2.0
PRODID:-//wp-events-plugin.com//7.2.3.1//EN
TZID:America/Los_Angeles
X-WR-TIMEZONE:America/Los_Angeles
BEGIN:VEVENT
UID:3734@templeetzchaim.org
DTSTART;TZID=America/Los_Angeles:20251014T180000
DTEND;TZID=America/Los_Angeles:20251014T180000
DTSTAMP:20250812T060030Z
URL:https://www.templeetzchaim.org/events/simchat-torah-celebration-2/
SUMMARY:Simchat Torah - Celebration
DESCRIPTION:
ATTACH;FMTTYPE=image/jpeg:https://www.templeetzchaim.org/wp-content/upload
 s/2025/08/HH-2025-Simchat-Torah-Celebration-and-Service-Square.jpg
CATEGORIES:Holidays
END:VEVENT
BEGIN:VTIMEZONE
TZID:America/Los_Angeles
X-LIC-LOCATION:America/Los_Angeles
BEGIN:DAYLIGHT
DTSTART:20250309T030000
TZOFFSETFROM:-0800
TZOFFSETTO:-0700
TZNAME:PDT
END:DAYLIGHT
END:VTIMEZONE
END:VCALENDAR