BEGIN:VCALENDAR
VERSION:2.0
PRODID:-//wp-events-plugin.com//7.2.3.1//EN
TZID:America/Los_Angeles
X-WR-TIMEZONE:America/Los_Angeles
BEGIN:VEVENT
UID:4599@templeetzchaim.org
DTSTART;TZID=America/Los_Angeles:20260419T083000
DTEND;TZID=America/Los_Angeles:20260419T083000
DTSTAMP:20251223T220145Z
URL:https://www.templeetzchaim.org/events/spring-blood-drive-at-temple-ada
 t-elohim-2/
SUMMARY:Spring Blood Drive at Temple Adat Elohim
DESCRIPTION:
ATTACH;FMTTYPE=image/jpeg:https://www.templeetzchaim.org/wp-content/upload
 s/2022/06/Community-Events.png
CATEGORIES:Community
END:VEVENT
BEGIN:VTIMEZONE
TZID:America/Los_Angeles
X-LIC-LOCATION:America/Los_Angeles
BEGIN:DAYLIGHT
DTSTART:20260308T030000
TZOFFSETFROM:-0800
TZOFFSETTO:-0700
TZNAME:PDT
END:DAYLIGHT
END:VTIMEZONE
END:VCALENDAR