BEGIN:VCALENDAR
VERSION:2.0
PRODID:-//wp-events-plugin.com//7.2.3.1//EN
TZID:America/Los_Angeles
X-WR-TIMEZONE:America/Los_Angeles
BEGIN:VEVENT
UID:2955@templeetzchaim.org
DTSTART;TZID=America/Los_Angeles:20241018T093000
DTEND;TZID=America/Los_Angeles:20241018T120000
DTSTAMP:20241015T230235Z
URL:https://www.templeetzchaim.org/events/sukkot-services-2/
SUMMARY:Sukkot Services
DESCRIPTION:
ATTACH;FMTTYPE=image/jpeg:https://www.templeetzchaim.org/wp-content/upload
 s/2022/07/8.png
CATEGORIES:Religious Services
LOCATION:Temple Etz Chaim - Paskow Sanctuary\, 1080 E. Janss Road\, Thousan
 d Oaks\, CA\, 91360\, United States
X-APPLE-STRUCTURED-LOCATION;VALUE=URI;X-ADDRESS=1080 E. Janss Road\, Thousa
 nd Oaks\, CA\, 91360\, United States;X-APPLE-RADIUS=100;X-TITLE=Temple Etz
  Chaim - Paskow Sanctuary:geo:0,0
END:VEVENT
BEGIN:VTIMEZONE
TZID:America/Los_Angeles
X-LIC-LOCATION:America/Los_Angeles
BEGIN:DAYLIGHT
DTSTART:20240310T030000
TZOFFSETFROM:-0800
TZOFFSETTO:-0700
TZNAME:PDT
END:DAYLIGHT
END:VTIMEZONE
END:VCALENDAR