BEGIN:VCALENDAR
VERSION:2.0
PRODID:-//wp-events-plugin.com//7.2.3.1//EN
TZID:America/Los_Angeles
X-WR-TIMEZONE:America/Los_Angeles
BEGIN:VEVENT
UID:1052@templeetzchaim.org
DTSTART;TZID=America/Los_Angeles:20230903T083000
DTEND;TZID=America/Los_Angeles:20230903T083000
DTSTAMP:20230830T175644Z
URL:https://www.templeetzchaim.org/events/sunday-morning-minyan-2-2023-09-
 03/
SUMMARY:Sunday Morning Minyan
DESCRIPTION:** Sunday\, September 3rd will meet off-site and Zoom (please e
 mail Benny Sommerfeld at benny@templeetzchaim.org for more info) **\n\nPl
 ease join us for Sunday Morning Minyan. After services\, stay with us for 
 a light breakfast nosh and conversation! **PLEASE NOTE: ALL OF OUR MINYAN 
 SERVICES ARE OFFERED ON ZOOM. IF YOU WOULD LIKE TO JOIN VIA ZOOM\, PLEASE 
 CLICK THE LINK ABOVE. **
ATTACH;FMTTYPE=image/jpeg:https://www.templeetzchaim.org/wp-content/upload
 s/2022/05/Sunday-Minyan.png
CATEGORIES:Religious Services
LOCATION:https://templeetzchaim-org.zoom.us/j/694433526?pwd=c3NqVDVqTklxUSt
 yblZjM1BqS3BGUT09#success
END:VEVENT
BEGIN:VTIMEZONE
TZID:America/Los_Angeles
X-LIC-LOCATION:America/Los_Angeles
BEGIN:DAYLIGHT
DTSTART:20230312T030000
TZOFFSETFROM:-0800
TZOFFSETTO:-0700
TZNAME:PDT
END:DAYLIGHT
END:VTIMEZONE
END:VCALENDAR