BEGIN:VCALENDAR
VERSION:2.0
PRODID:-//wp-events-plugin.com//7.2.3.1//EN
TZID:America/Los_Angeles
X-WR-TIMEZONE:America/Los_Angeles
BEGIN:VEVENT
UID:751@templeetzchaim.org
DTSTART;TZID=America/Los_Angeles:20220911T093000
DTEND;TZID=America/Los_Angeles:20220911T113000
DTSTAMP:20220909T233529Z
URL:https://www.templeetzchaim.org/events/sunday-stickaround-high-holiday-
 learning-with-rabbi-a/
SUMMARY:Sunday Stickaround - High Holiday Learning with Rabbi Ari Averbach!
DESCRIPTION:Looking for something to do after Religious School dropoff?\n\n
 No plans after Sunday Morning Minyan?\n\nJOIN YOUR TEC FAMILY FOR SUNDAY S
 TICKAROUND!\n\n"Stick Around" the TEC campus to nosh\, hang out with fello
 w congregants and participate in discussion.\n\n9/11 - High Holiday Learni
 ng with Rabbi Ari Averbach!\n\nAfter Joyce speaks to Religious School pare
 nts\, Rabbi Averbach will stick around for a Q&amp\;A about a range of top
 ics including prepping for the High Holidays.
CATEGORIES:Community
END:VEVENT
BEGIN:VTIMEZONE
TZID:America/Los_Angeles
X-LIC-LOCATION:America/Los_Angeles
BEGIN:DAYLIGHT
DTSTART:20220313T030000
TZOFFSETFROM:-0800
TZOFFSETTO:-0700
TZNAME:PDT
END:DAYLIGHT
END:VTIMEZONE
END:VCALENDAR