BEGIN:VCALENDAR
VERSION:2.0
PRODID:-//wp-events-plugin.com//7.2.3.1//EN
TZID:America/Los_Angeles
X-WR-TIMEZONE:America/Los_Angeles
BEGIN:VEVENT
UID:4593@templeetzchaim.org
DTSTART;TZID=America/Los_Angeles:20260401T120000
DTEND;TZID=America/Los_Angeles:20260401T120000
DTSTAMP:20251223T215308Z
URL:https://www.templeetzchaim.org/events/temple-office-closed-at-1200pm-4
 /
SUMMARY:Temple Office Closed at 12:00pm
DESCRIPTION:
ATTACH;FMTTYPE=image/jpeg:https://www.templeetzchaim.org/wp-content/upload
 s/2022/09/Temple-Office-Closed.png
CATEGORIES:Holidays
END:VEVENT
BEGIN:VTIMEZONE
TZID:America/Los_Angeles
X-LIC-LOCATION:America/Los_Angeles
BEGIN:DAYLIGHT
DTSTART:20260308T030000
TZOFFSETFROM:-0800
TZOFFSETTO:-0700
TZNAME:PDT
END:DAYLIGHT
END:VTIMEZONE
END:VCALENDAR