BEGIN:VCALENDAR
VERSION:2.0
PRODID:-//wp-events-plugin.com//7.2.3.1//EN
TZID:America/Los_Angeles
X-WR-TIMEZONE:America/Los_Angeles
BEGIN:VEVENT
UID:1186@templeetzchaim.org
DTSTART;TZID=America/Los_Angeles:20230103T100000
DTEND;TZID=America/Los_Angeles:20230103T110000
DTSTAMP:20221212T194341Z
URL:https://www.templeetzchaim.org/events/tuesdays-with-rabbi-spiegel-2-20
 23-01-03/
SUMMARY:Tuesdays with Rabbi Spiegel
DESCRIPTION:Our Rabbi Emeritus\, Rabbi Spiegel\, invites you to participate
  in this weekly class to learn more about the evolving world around us. If
  you are interested in joining Tuesdays with Rabbi Spiegel\, please email 
 Shane at shane@templeetzchaim.org.\n\nCLICK HERE to join Zoom meeting.
ATTACH;FMTTYPE=image/jpeg:https://www.templeetzchaim.org/wp-content/upload
 s/2022/05/Tuesdays-with-Rabbi-Spiegel.png
CATEGORIES:Educational
LOCATION:https://templeetzchaim-org.zoom.us/j/83472696140?pwd=ZytPRmRZSkJsU
 kh5M09DWE5ZRU0xdz09#success
END:VEVENT
BEGIN:VTIMEZONE
TZID:America/Los_Angeles
X-LIC-LOCATION:America/Los_Angeles
BEGIN:STANDARD
DTSTART:20221106T010000
TZOFFSETFROM:-0700
TZOFFSETTO:-0800
TZNAME:PST
END:STANDARD
END:VTIMEZONE
END:VCALENDAR