BEGIN:VCALENDAR
VERSION:2.0
PRODID:-//wp-events-plugin.com//7.2.3.1//EN
TZID:America/Los_Angeles
X-WR-TIMEZONE:America/Los_Angeles
BEGIN:VEVENT
UID:763@templeetzchaim.org
DTSTART;TZID=America/Los_Angeles:20220918T113000
DTEND;TZID=America/Los_Angeles:20220918T130000
DTSTAMP:20220914T224313Z
URL:https://www.templeetzchaim.org/events/usy-machar-lounge/
SUMMARY:USY - Machar Lounge
DESCRIPTION:Machar (Grades K-2nd)\n\nTEC’s Youth Department offers a prog
 ram called Machar. The program meets once a month for an event after Reli
 gious School. Lunch or snacks are served at every event and the program is
  co-led by our USY department for leadership training.\n\nVarious activiti
 es at each event can include: Art\, Dance\, Games\, Songs\, Prayers\,
  Ruach\, and much much more! We strive to incorporate Jewish values and h
 olidays into our events as as learning leadership building skills\, social
  action projects and tikkun olam.\n\nMost of all\, this program will help
  keep children in the community connected as Jews. Machar brings children 
 together in a social setting while introducing them to Kadima and the USY 
 world that awaits them!\n\nContact Cindy Goldberg\, Programming &amp\; You
 th Director\, at cindy@templeetzchaim.org or (805) 494-3648 for more inf
 ormation about our Youth Department.
ATTACH;FMTTYPE=image/jpeg:https://www.templeetzchaim.org/wp-content/upload
 s/2022/05/USY.png
CATEGORIES:USY/Youth
END:VEVENT
BEGIN:VTIMEZONE
TZID:America/Los_Angeles
X-LIC-LOCATION:America/Los_Angeles
BEGIN:DAYLIGHT
DTSTART:20220313T030000
TZOFFSETFROM:-0800
TZOFFSETTO:-0700
TZNAME:PDT
END:DAYLIGHT
END:VTIMEZONE
END:VCALENDAR