BEGIN:VCALENDAR
VERSION:2.0
PRODID:-//wp-events-plugin.com//7.2.3.1//EN
TZID:America/Los_Angeles
X-WR-TIMEZONE:America/Los_Angeles
BEGIN:VEVENT
UID:176@templeetzchaim.org
DTSTART;TZID=America/Los_Angeles:20221012T191500
DTEND;TZID=America/Los_Angeles:20221012T191500
DTSTAMP:20221212T184724Z
URL:https://www.templeetzchaim.org/events/wednesday-evening-minyan-2022-10
 -12/
SUMMARY:Wednesday Evening Minyan
DESCRIPTION:Please join us for our weekly Wednesday evening minyan services
 . **PLEASE NOTE: ALL WEDNESDAY EVENING MINYAN SERVICES ARE AVAILABLE ON ZO
 OM ONLY.**
ATTACH;FMTTYPE=image/jpeg:https://www.templeetzchaim.org/wp-content/upload
 s/2022/05/Wednesday-Minyan.png
CATEGORIES:Religious Services
LOCATION:https://templeetzchaim-org.zoom.us/j/694433526?pwd=c3NqVDVqTklxUSt
 yblZjM1BqS3BGUT09#success
END:VEVENT
BEGIN:VTIMEZONE
TZID:America/Los_Angeles
X-LIC-LOCATION:America/Los_Angeles
BEGIN:DAYLIGHT
DTSTART:20220313T030000
TZOFFSETFROM:-0800
TZOFFSETTO:-0700
TZNAME:PDT
END:DAYLIGHT
END:VTIMEZONE
END:VCALENDAR