BEGIN:VCALENDAR
VERSION:2.0
PRODID:-//wp-events-plugin.com//7.2.3.1//EN
TZID:America/Los_Angeles
X-WR-TIMEZONE:America/Los_Angeles
BEGIN:VEVENT
UID:2685@templeetzchaim.org
DTSTART;TZID=America/Los_Angeles:20240120T173000
DTEND;TZID=America/Los_Angeles:20240120T173000
DTSTAMP:20231222T000005Z
URL:https://www.templeetzchaim.org/events/wotec-havdalah-and-wine-tasting/
SUMMARY:WOTEC - Havdalah and Wine Tasting
DESCRIPTION:Join us for Havdalah\, appetizers\, and sampling Kosher Israeli
  wines.\n\n$36 per person.  All Synagogue members are invited!\n\nRSVP to
  Linda Hutchings @ lindaH@templeetzchaim.org
ATTACH;FMTTYPE=image/jpeg:https://www.templeetzchaim.org/wp-content/upload
 s/2023/12/WOTEC-Wine-tasting.png
CATEGORIES:WOTEC
END:VEVENT
BEGIN:VTIMEZONE
TZID:America/Los_Angeles
X-LIC-LOCATION:America/Los_Angeles
BEGIN:STANDARD
DTSTART:20231105T010000
TZOFFSETFROM:-0700
TZOFFSETTO:-0800
TZNAME:PST
END:STANDARD
END:VTIMEZONE
END:VCALENDAR